BEGIN:VCALENDAR
VERSION:2.0
PRODID:-//Sedgefield Church - ECPv5.16.4//NONSGML v1.0//EN
CALSCALE:GREGORIAN
METHOD:PUBLISH
X-WR-CALNAME:Sedgefield Church
X-ORIGINAL-URL:https://sedgefieldchurch.org
X-WR-CALDESC:Events for Sedgefield Church
BEGIN:VTIMEZONE
TZID:America/New_York
BEGIN:DAYLIGHT
TZOFFSETFROM:-0500
TZOFFSETTO:-0400
TZNAME:EDT
DTSTART:20240310T070000
END:DAYLIGHT
BEGIN:STANDARD
TZOFFSETFROM:-0400
TZOFFSETTO:-0500
TZNAME:EST
DTSTART:20241103T060000
END:STANDARD
END:VTIMEZONE
BEGIN:VEVENT
DTSTART;TZID=America/New_York:20240213T180000
DTEND;TZID=America/New_York:20240213T190000
DTSTAMP:20260421T014234
CREATED:20240107T201317Z
LAST-MODIFIED:20240107T201431Z
UID:11319-1707847200-1707850800@sedgefieldchurch.org
SUMMARY:Shrove Tuesday Pancake Dinner
DESCRIPTION:We will have a pancake dinner with some trivia about this day and it’s meaning. Join us for a family friendly meal of pancakes\, sausage and fruit.
URL:https://sedgefieldchurch.org/event/shrove-tuesday-pancake-dinner/
CATEGORIES:All Ages,Family,Featured,Neighborhood,Social
ATTACH;FMTTYPE=image/png:https://sedgefieldchurch.org/wp-content/uploads/Shrove-Tuesday.png
END:VEVENT
END:VCALENDAR