BEGIN:VCALENDAR
VERSION:2.0
PRODID:-//Sedgefield Church - ECPv5.16.4//NONSGML v1.0//EN
CALSCALE:GREGORIAN
METHOD:PUBLISH
X-WR-CALNAME:Sedgefield Church
X-ORIGINAL-URL:https://sedgefieldchurch.org
X-WR-CALDESC:Events for Sedgefield Church
BEGIN:VTIMEZONE
TZID:America/New_York
BEGIN:DAYLIGHT
TZOFFSETFROM:-0500
TZOFFSETTO:-0400
TZNAME:EDT
DTSTART:20260308T070000
END:DAYLIGHT
BEGIN:STANDARD
TZOFFSETFROM:-0400
TZOFFSETTO:-0500
TZNAME:EST
DTSTART:20261101T060000
END:STANDARD
END:VTIMEZONE
BEGIN:VEVENT
DTSTART;TZID=America/New_York:20260217T183000
DTEND;TZID=America/New_York:20260217T193000
DTSTAMP:20260421T100826
CREATED:20260122T182252Z
LAST-MODIFIED:20260122T182252Z
UID:12819-1771353000-1771356600@sedgefieldchurch.org
SUMMARY:Administrative Council Meeting - Zoom only
DESCRIPTION:This will be a zoom only meeting. Check you emails for the zoom link before the meeting. \nCouncil meetings are open to anyone who would like to find out more about what is happening in the church.
URL:https://sedgefieldchurch.org/event/church-council-zoom-meeting-2-2-2-2-2-2-2-2-2-2-2-2-2-2-2-2-2-2-2-2-2-3-2-2-2-2-2-2-2-2-2-2-2-2-3-2-2-2-3-2-2/
CATEGORIES:Committee
ATTACH;FMTTYPE=image/jpeg:https://sedgefieldchurch.org/wp-content/uploads/Church-Council.jpg
END:VEVENT
END:VCALENDAR