BEGIN:VCALENDAR
VERSION:2.0
PRODID:-//Sedgefield Church - ECPv5.16.4//NONSGML v1.0//EN
CALSCALE:GREGORIAN
METHOD:PUBLISH
X-WR-CALNAME:Sedgefield Church
X-ORIGINAL-URL:https://sedgefieldchurch.org
X-WR-CALDESC:Events for Sedgefield Church
BEGIN:VTIMEZONE
TZID:America/New_York
BEGIN:DAYLIGHT
TZOFFSETFROM:-0500
TZOFFSETTO:-0400
TZNAME:EDT
DTSTART:20250309T070000
END:DAYLIGHT
BEGIN:STANDARD
TZOFFSETFROM:-0400
TZOFFSETTO:-0500
TZNAME:EST
DTSTART:20251102T060000
END:STANDARD
END:VTIMEZONE
BEGIN:VEVENT
DTSTART;TZID=America/New_York:20250824T223000
DTEND;TZID=America/New_York:20250824T233000
DTSTAMP:20260419T194042
CREATED:20250127T190657Z
LAST-MODIFIED:20250127T190657Z
UID:12113-1756074600-1756078200@sedgefieldchurch.org
SUMMARY:Blessing of the Backpacks and Back to School Party
DESCRIPTION:All students and school staff are encouraged to bring their backpacks/book bags on Sunday\, Aug 24. During worship there will be a special time of blessing for the coming school year. Following that\, the children will have a Back to School Party during Jesus and Me\, JAM\, time.
URL:https://sedgefieldchurch.org/event/blessing-of-the-backpacks-2-2-2-2-2/
CATEGORIES:All Ages,Children,Featured,Worship
ATTACH;FMTTYPE=image/jpeg:https://sedgefieldchurch.org/wp-content/uploads/blessing-of-the-backpacks-scaled.jpg
END:VEVENT
END:VCALENDAR