BEGIN:VCALENDAR
VERSION:2.0
PRODID:-//Sedgefield Church - ECPv5.16.4//NONSGML v1.0//EN
CALSCALE:GREGORIAN
METHOD:PUBLISH
X-WR-CALNAME:Sedgefield Church
X-ORIGINAL-URL:https://sedgefieldchurch.org
X-WR-CALDESC:Events for Sedgefield Church
BEGIN:VTIMEZONE
TZID:America/New_York
BEGIN:DAYLIGHT
TZOFFSETFROM:-0500
TZOFFSETTO:-0400
TZNAME:EDT
DTSTART:20250309T070000
END:DAYLIGHT
BEGIN:STANDARD
TZOFFSETFROM:-0400
TZOFFSETTO:-0500
TZNAME:EST
DTSTART:20251102T060000
END:STANDARD
END:VTIMEZONE
BEGIN:VEVENT
DTSTART;TZID=America/New_York:20250601T120000
DTEND;TZID=America/New_York:20250601T133000
DTSTAMP:20260419T223959
CREATED:20250502T130706Z
LAST-MODIFIED:20250502T130706Z
UID:12295-1748779200-1748784600@sedgefieldchurch.org
SUMMARY:Bowling
DESCRIPTION:Church-wide bowling event at Bolero 10 Park Lanes on Montford. You can sign up in the narthex at church or contact Mary Jo. The cost is $27.28 for adults and $17.28 for children and youth. This includes 1 1/2 hours of bowling\, shoe rental\, pizza and a drink. We are required to pay in advance to reserve the space. Payments must be made by Wednesday\, May 7 and may be made online or in person. Please designate “children’s ministry/bowling” on the payment.
URL:https://sedgefieldchurch.org/event/bowling/
CATEGORIES:Adult,All Ages,Children,Family,Social,Youth
END:VEVENT
END:VCALENDAR