BEGIN:VCALENDAR
VERSION:2.0
PRODID:-//Sedgefield Church - ECPv5.16.4//NONSGML v1.0//EN
CALSCALE:GREGORIAN
METHOD:PUBLISH
X-WR-CALNAME:Sedgefield Church
X-ORIGINAL-URL:https://sedgefieldchurch.org
X-WR-CALDESC:Events for Sedgefield Church
BEGIN:VTIMEZONE
TZID:America/New_York
BEGIN:DAYLIGHT
TZOFFSETFROM:-0500
TZOFFSETTO:-0400
TZNAME:EDT
DTSTART:20250309T070000
END:DAYLIGHT
BEGIN:STANDARD
TZOFFSETFROM:-0400
TZOFFSETTO:-0500
TZNAME:EST
DTSTART:20251102T060000
END:STANDARD
END:VTIMEZONE
BEGIN:VEVENT
DTSTART;TZID=America/New_York:20250215T140000
DTEND;TZID=America/New_York:20250215T160000
DTSTAMP:20260420T043605
CREATED:20250117T200147Z
LAST-MODIFIED:20250117T200217Z
UID:12062-1739628000-1739635200@sedgefieldchurch.org
SUMMARY:Sedgefield Neighborhood Chili Cook Off
DESCRIPTION:The Sedgefield Neighborhood Association and Sedgefield UMC have teamed up to bring the community together again for SEDGEFIELD 2025 CHILI COOK OFF. Get your taste buds hopping while meeting new neighbors and reconnecting with longtime friends.
URL:https://sedgefieldchurch.org/event/neighborhood-chili-cook-off-2-2-2/
CATEGORIES:Adult,All Ages,Children,Family,Featured,Neighborhood,Social
ATTACH;FMTTYPE=image/jpeg:https://sedgefieldchurch.org/wp-content/uploads/chili-cook-off-e1708709464156.jpg
END:VEVENT
END:VCALENDAR