BEGIN:VCALENDAR
VERSION:2.0
PRODID:-//Sedgefield Church - ECPv5.16.4//NONSGML v1.0//EN
CALSCALE:GREGORIAN
METHOD:PUBLISH
X-WR-CALNAME:Sedgefield Church
X-ORIGINAL-URL:https://sedgefieldchurch.org
X-WR-CALDESC:Events for Sedgefield Church
BEGIN:VTIMEZONE
TZID:America/New_York
BEGIN:DAYLIGHT
TZOFFSETFROM:-0500
TZOFFSETTO:-0400
TZNAME:EDT
DTSTART:20230312T070000
END:DAYLIGHT
BEGIN:STANDARD
TZOFFSETFROM:-0400
TZOFFSETTO:-0500
TZNAME:EST
DTSTART:20231105T060000
END:STANDARD
END:VTIMEZONE
BEGIN:VEVENT
DTSTART;TZID=America/New_York:20231013T170000
DTEND;TZID=America/New_York:20231013T203000
DTSTAMP:20260421T015524
CREATED:20231007T183007Z
LAST-MODIFIED:20231007T183007Z
UID:11061-1697216400-1697229000@sedgefieldchurch.org
SUMMARY:Neighborhood Movie Night
DESCRIPTION:The Sedgefield Neighborhood Association is excited to kick off the fall season with our Friday Family Movie Night\nWhen: Friday October 13th\nWhere: Sedgefield Church – 2830 Dorchester Place\nTime: 5:00 – 8:30PM\nDinner: 5:00 – 7:00 PM\nAvailable from\nSlinging Weenies\nMovie Feature: Frankenweenie Starts at sundown 7:00 PM ish\n\n\nSnag a great seat and some dinner before the show from Slinging Weenies \n\n\nPerfect for family and friends ! So bring your blanket\, chairs and join us for movie night under the stars.\nPlenty of free popcorn and fun included!\nWe can’t wait to see all of you for a great evening of family fun.
URL:https://sedgefieldchurch.org/event/neighborhood-movie-night/
CATEGORIES:All Ages,Children,Family,Neighborhood,Social
ATTACH;FMTTYPE=image/jpeg:https://sedgefieldchurch.org/wp-content/uploads/neighborhood-movie.jpg
END:VEVENT
END:VCALENDAR