BEGIN:VCALENDAR
VERSION:2.0
PRODID:-//Sedgefield Church - ECPv5.16.4//NONSGML v1.0//EN
CALSCALE:GREGORIAN
METHOD:PUBLISH
X-WR-CALNAME:Sedgefield Church
X-ORIGINAL-URL:https://sedgefieldchurch.org
X-WR-CALDESC:Events for Sedgefield Church
BEGIN:VTIMEZONE
TZID:America/New_York
BEGIN:DAYLIGHT
TZOFFSETFROM:-0500
TZOFFSETTO:-0400
TZNAME:EDT
DTSTART:20230312T070000
END:DAYLIGHT
BEGIN:STANDARD
TZOFFSETFROM:-0400
TZOFFSETTO:-0500
TZNAME:EST
DTSTART:20231105T060000
END:STANDARD
END:VTIMEZONE
BEGIN:VEVENT
DTSTART;TZID=America/New_York:20230128T140000
DTEND;TZID=America/New_York:20230128T160000
DTSTAMP:20260421T142526
CREATED:20230105T210155Z
LAST-MODIFIED:20230110T200823Z
UID:10437-1674914400-1674921600@sedgefieldchurch.org
SUMMARY:Sedgefield Neighborhood Chili Cook Off
DESCRIPTION:The Sedgefield Neighborhood Association and Sedgefield UMC have teamed up to bring the community together for SEDGEFIELD 2023 CHILI COOK OFF. Get your taste buds hopping while meeting new neighbors and reconnecting with longtime friends. If you want to participate in the friendly competition\, it is free to sign up here. Tasting is free as well.
URL:https://sedgefieldchurch.org/event/neighborhood-chili-cook-off/
CATEGORIES:Adult,All Ages,Children,Family,Featured,Neighborhood,Social
ATTACH;FMTTYPE=image/jpeg:https://sedgefieldchurch.org/wp-content/uploads/chili-cook-off-e1708709464156.jpg
END:VEVENT
END:VCALENDAR