BEGIN:VCALENDAR
VERSION:2.0
PRODID:-//Sedgefield Church - ECPv5.16.4//NONSGML v1.0//EN
CALSCALE:GREGORIAN
METHOD:PUBLISH
X-WR-CALNAME:Sedgefield Church
X-ORIGINAL-URL:https://sedgefieldchurch.org
X-WR-CALDESC:Events for Sedgefield Church
BEGIN:VTIMEZONE
TZID:America/New_York
BEGIN:DAYLIGHT
TZOFFSETFROM:-0500
TZOFFSETTO:-0400
TZNAME:EDT
DTSTART:20220313T070000
END:DAYLIGHT
BEGIN:STANDARD
TZOFFSETFROM:-0400
TZOFFSETTO:-0500
TZNAME:EST
DTSTART:20221106T060000
END:STANDARD
END:VTIMEZONE
BEGIN:VEVENT
DTSTART;TZID=America/New_York:20221218T103000
DTEND;TZID=America/New_York:20221218T113000
DTSTAMP:20260421T155139
CREATED:20220922T172821Z
LAST-MODIFIED:20220922T172821Z
UID:10209-1671359400-1671363000@sedgefieldchurch.org
SUMMARY:Children's Christmas Party - Make a reservation
DESCRIPTION:The children of the church will meet in the Education Building during worship for a Christmas Party. Please contact the church office 704-523-0077 or Mary Jo Bridges 704-617-4056 to make a reservation by December 11.
URL:https://sedgefieldchurch.org/event/childrens-christmas-party-2/
CATEGORIES:Children,Social
ATTACH;FMTTYPE=image/jpeg:https://sedgefieldchurch.org/wp-content/uploads/Kids-Christmas-Party.jpg
END:VEVENT
END:VCALENDAR