BEGIN:VCALENDAR
VERSION:2.0
PRODID:-//Sedgefield Church - ECPv5.16.4//NONSGML v1.0//EN
CALSCALE:GREGORIAN
METHOD:PUBLISH
X-WR-CALNAME:Sedgefield Church
X-ORIGINAL-URL:https://sedgefieldchurch.org
X-WR-CALDESC:Events for Sedgefield Church
BEGIN:VTIMEZONE
TZID:America/New_York
BEGIN:DAYLIGHT
TZOFFSETFROM:-0500
TZOFFSETTO:-0400
TZNAME:EDT
DTSTART:20220313T070000
END:DAYLIGHT
BEGIN:STANDARD
TZOFFSETFROM:-0400
TZOFFSETTO:-0500
TZNAME:EST
DTSTART:20221106T060000
END:STANDARD
END:VTIMEZONE
BEGIN:VEVENT
DTSTART;TZID=America/New_York:20221113T103000
DTEND;TZID=America/New_York:20221113T113000
DTSTAMP:20260421T172131
CREATED:20220922T172327Z
LAST-MODIFIED:20220922T172600Z
UID:10203-1668335400-1668339000@sedgefieldchurch.org
SUMMARY:Pack OCC Boxes During JAM - Children
DESCRIPTION:Children\, ages 4-12\, will be packing boxes in the Education Building for Operation Christmas Child to be given to children in developing countries.
URL:https://sedgefieldchurch.org/event/pack-occ-boxes-children-youth-2-2-2/
CATEGORIES:Children,Missions
ATTACH;FMTTYPE=image/jpeg:https://sedgefieldchurch.org/wp-content/uploads/2014/10/Op-Christmas-Child-e1417014578605.jpg
END:VEVENT
END:VCALENDAR