BEGIN:VCALENDAR
VERSION:2.0
PRODID:-//Sedgefield Church - ECPv5.16.4//NONSGML v1.0//EN
CALSCALE:GREGORIAN
METHOD:PUBLISH
X-WR-CALNAME:Sedgefield Church
X-ORIGINAL-URL:https://sedgefieldchurch.org
X-WR-CALDESC:Events for Sedgefield Church
BEGIN:VTIMEZONE
TZID:America/New_York
BEGIN:DAYLIGHT
TZOFFSETFROM:-0500
TZOFFSETTO:-0400
TZNAME:EDT
DTSTART:20220313T070000
END:DAYLIGHT
BEGIN:STANDARD
TZOFFSETFROM:-0400
TZOFFSETTO:-0500
TZNAME:EST
DTSTART:20221106T060000
END:STANDARD
END:VTIMEZONE
BEGIN:VEVENT
DTSTART;TZID=America/New_York:20220803T100000
DTEND;TZID=America/New_York:20220803T120000
DTSTAMP:20260421T215637
CREATED:20220127T162054Z
LAST-MODIFIED:20220127T162054Z
UID:9681-1659520800-1659528000@sedgefieldchurch.org
SUMMARY:Summer Fun Day -
DESCRIPTION:
URL:https://sedgefieldchurch.org/event/summer-fun-day-clay-art-2-2-3-2-2-3/
CATEGORIES:Children,Neighborhood
ATTACH;FMTTYPE=image/jpeg:https://sedgefieldchurch.org/wp-content/uploads/SummerFundays.jpg
END:VEVENT
END:VCALENDAR