BEGIN:VCALENDAR
VERSION:2.0
PRODID:-//Sedgefield Church - ECPv5.16.4//NONSGML v1.0//EN
CALSCALE:GREGORIAN
METHOD:PUBLISH
X-WR-CALNAME:Sedgefield Church
X-ORIGINAL-URL:https://sedgefieldchurch.org
X-WR-CALDESC:Events for Sedgefield Church
BEGIN:VTIMEZONE
TZID:America/New_York
BEGIN:DAYLIGHT
TZOFFSETFROM:-0500
TZOFFSETTO:-0400
TZNAME:EDT
DTSTART:20220313T070000
END:DAYLIGHT
BEGIN:STANDARD
TZOFFSETFROM:-0400
TZOFFSETTO:-0500
TZNAME:EST
DTSTART:20221106T060000
END:STANDARD
END:VTIMEZONE
BEGIN:VEVENT
DTSTART;TZID=America/New_York:20220409T103000
DTEND;TZID=America/New_York:20220409T120000
DTSTAMP:20260422T033246
CREATED:20220127T161056Z
LAST-MODIFIED:20220312T152704Z
UID:9668-1649500200-1649505600@sedgefieldchurch.org
SUMMARY:Easter Activities for the Children
DESCRIPTION:This fun neighborhood event will begin with Easter activities and crafts for the children in the Fellowship Hall. Then we will go outside for an Easter Egg Hunt. BRING YOUR EASTER BASKET!
URL:https://sedgefieldchurch.org/event/community-easter-activities-and-egg-hunt-2-2/
CATEGORIES:Children,Family
ATTACH;FMTTYPE=image/jpeg:https://sedgefieldchurch.org/wp-content/uploads/easter_egg_hunt_sign-1.jpg
END:VEVENT
END:VCALENDAR