BEGIN:VCALENDAR
VERSION:2.0
PRODID:-//Sedgefield Church - ECPv5.16.4//NONSGML v1.0//EN
CALSCALE:GREGORIAN
METHOD:PUBLISH
X-WR-CALNAME:Sedgefield Church
X-ORIGINAL-URL:https://sedgefieldchurch.org
X-WR-CALDESC:Events for Sedgefield Church
BEGIN:VTIMEZONE
TZID:America/New_York
BEGIN:DAYLIGHT
TZOFFSETFROM:-0500
TZOFFSETTO:-0400
TZNAME:EDT
DTSTART:20210314T070000
END:DAYLIGHT
BEGIN:STANDARD
TZOFFSETFROM:-0400
TZOFFSETTO:-0500
TZNAME:EST
DTSTART:20211107T060000
END:STANDARD
END:VTIMEZONE
BEGIN:VEVENT
DTSTART;TZID=America/New_York:20210925T150000
DTEND;TZID=America/New_York:20210925T163000
DTSTAMP:20260424T141056
CREATED:20210917T190422Z
LAST-MODIFIED:20210917T190422Z
UID:9243-1632582000-1632587400@sedgefieldchurch.org
SUMMARY:HOT WHEELS AND COOL TREATS
DESCRIPTION:Children of the church and neighborhood are invited for an afternoon of bike/scooter riding around our church parking lot. Please bring a bike\, scooter\, skateboard\, or trike and a helmet. We will ride and then enjoy a cool treat! Parents\, please park near the Education Building and bring a lawn chair or blanket. Please RSVP by texting Mary Jo 704-617-4056 before noon on Sept 22.
URL:https://sedgefieldchurch.org/event/hot-wheels-and-cool-treats-2/
CATEGORIES:Children,Neighborhood
ATTACH;FMTTYPE=image/jpeg:https://sedgefieldchurch.org/wp-content/uploads/kid-on-bike-scaled-e1601052067407.jpg
END:VEVENT
END:VCALENDAR