BEGIN:VCALENDAR
VERSION:2.0
PRODID:-//Sedgefield Church - ECPv5.16.4//NONSGML v1.0//EN
CALSCALE:GREGORIAN
METHOD:PUBLISH
X-WR-CALNAME:Sedgefield Church
X-ORIGINAL-URL:https://sedgefieldchurch.org
X-WR-CALDESC:Events for Sedgefield Church
BEGIN:VTIMEZONE
TZID:America/New_York
BEGIN:DAYLIGHT
TZOFFSETFROM:-0500
TZOFFSETTO:-0400
TZNAME:EDT
DTSTART:20210314T070000
END:DAYLIGHT
BEGIN:STANDARD
TZOFFSETFROM:-0400
TZOFFSETTO:-0500
TZNAME:EST
DTSTART:20211107T060000
END:STANDARD
END:VTIMEZONE
BEGIN:VEVENT
DTSTART;TZID=America/New_York:20210730T093000
DTEND;TZID=America/New_York:20210730T123000
DTSTAMP:20260424T164220
CREATED:20201031T134420Z
LAST-MODIFIED:20210724T131523Z
UID:8196-1627637400-1627648200@sedgefieldchurch.org
SUMMARY:VBS - ROCKY RAILWAY! and Closing Lunch
DESCRIPTION:ALL CHILDREN RISING K – RISING 5TH GRADE are invited to join us for VBS – Rocky Railway – Jesus’ Power Pulls Us Through \nKids can climb aboard for mountains of fun at Rocky Railways! On this faith-filled adventure\, kids discover that trusting Jesus pulls them through life’s ups and downs!  July 26-30\, 9:30 am -12:30 pm. Parents and family are invited to the closing lunch on Friday\, July 30. NO CHARGE FOR VBS. REGISTRATION IS NOW CLOSED. Limited to 30 children this year to allow for social distancing.
URL:https://sedgefieldchurch.org/event/vbs-2-2-2-2-2-2-3-2-2-2/
CATEGORIES:Children,Neighborhood
ATTACH;FMTTYPE=image/jpeg:https://sedgefieldchurch.org/wp-content/uploads/rocky-railway-logo.jpg
END:VEVENT
END:VCALENDAR