BEGIN:VCALENDAR
VERSION:2.0
PRODID:-//Sedgefield Church - ECPv5.16.4//NONSGML v1.0//EN
CALSCALE:GREGORIAN
METHOD:PUBLISH
X-WR-CALNAME:Sedgefield Church
X-ORIGINAL-URL:https://sedgefieldchurch.org
X-WR-CALDESC:Events for Sedgefield Church
BEGIN:VTIMEZONE
TZID:America/New_York
BEGIN:DAYLIGHT
TZOFFSETFROM:-0500
TZOFFSETTO:-0400
TZNAME:EDT
DTSTART:20240310T070000
END:DAYLIGHT
BEGIN:STANDARD
TZOFFSETFROM:-0400
TZOFFSETTO:-0500
TZNAME:EST
DTSTART:20241103T060000
END:STANDARD
END:VTIMEZONE
BEGIN:VEVENT
DTSTART;TZID=America/New_York:20240714T190000
DTEND;TZID=America/New_York:20240714T213000
DTSTAMP:20260420T153110
CREATED:20240712T193621Z
LAST-MODIFIED:20240712T193621Z
UID:11698-1720983600-1720992600@sedgefieldchurch.org
SUMMARY:Youth Event - Knight's Baseball Game
DESCRIPTION:Contact Bradley Kirksey\, bradleykirksey@yahoo.com\, to get in on this fun activity.
URL:https://sedgefieldchurch.org/event/youth-event-knights-baseball-game/
CATEGORIES:Youth
END:VEVENT
END:VCALENDAR