BEGIN:VCALENDAR
VERSION:2.0
PRODID:-//Sedgefield Church - ECPv5.16.4//NONSGML v1.0//EN
CALSCALE:GREGORIAN
METHOD:PUBLISH
X-WR-CALNAME:Sedgefield Church
X-ORIGINAL-URL:https://sedgefieldchurch.org
X-WR-CALDESC:Events for Sedgefield Church
BEGIN:VTIMEZONE
TZID:America/New_York
BEGIN:DAYLIGHT
TZOFFSETFROM:-0500
TZOFFSETTO:-0400
TZNAME:EDT
DTSTART:20240310T070000
END:DAYLIGHT
BEGIN:STANDARD
TZOFFSETFROM:-0400
TZOFFSETTO:-0500
TZNAME:EST
DTSTART:20241103T060000
END:STANDARD
END:VTIMEZONE
BEGIN:VEVENT
DTSTART;TZID=America/New_York:20240922T120000
DTEND;TZID=America/New_York:20240922T133000
DTSTAMP:20260421T123340
CREATED:20240913T141920Z
LAST-MODIFIED:20240913T142829Z
UID:11828-1727006400-1727011800@sedgefieldchurch.org
SUMMARY:YOUTH MEETING - SOUTHPARK CHURCH
DESCRIPTION:The youth will meet at Southpark Church\, 3151 Apex Drive Suite 100\, Charlotte\, NC 28211. A light lunch will be served.
URL:https://sedgefieldchurch.org/event/youth-event-2-2-2-2-2-2-2-2-2-2-2-2-4-2-3-2-4-2-2/
LOCATION:Southpark Church\, 3151 Apex Dr Suite 100\, Charlotte\, NC\, 28211\, United States
CATEGORIES:Youth
ATTACH;FMTTYPE=image/jpeg:https://sedgefieldchurch.org/wp-content/uploads/youthgroup-217x300.jpg
END:VEVENT
END:VCALENDAR