BEGIN:VCALENDAR
VERSION:2.0
PRODID:-//Sedgefield Church - ECPv5.16.4//NONSGML v1.0//EN
CALSCALE:GREGORIAN
METHOD:PUBLISH
X-WR-CALNAME:Sedgefield Church
X-ORIGINAL-URL:https://sedgefieldchurch.org
X-WR-CALDESC:Events for Sedgefield Church
BEGIN:VTIMEZONE
TZID:America/New_York
BEGIN:DAYLIGHT
TZOFFSETFROM:-0500
TZOFFSETTO:-0400
TZNAME:EDT
DTSTART:20240310T070000
END:DAYLIGHT
BEGIN:STANDARD
TZOFFSETFROM:-0400
TZOFFSETTO:-0500
TZNAME:EST
DTSTART:20241103T060000
END:STANDARD
END:VTIMEZONE
BEGIN:VEVENT
DTSTART;TZID=America/New_York:20241215T120000
DTEND;TZID=America/New_York:20241215T133000
DTSTAMP:20260420T090240
CREATED:20240913T142602Z
LAST-MODIFIED:20240913T142602Z
UID:11834-1734264000-1734269400@sedgefieldchurch.org
SUMMARY:YOUTH CHRISTMAS PARTY - SOUTHPARK CHURCH
DESCRIPTION:The youth will meet at SOUTHPARK CHURCH for a Christmas Party\, 3151 Apex Drive Suite 100\, Charlotte\, NC 28211. A light lunch will be served.
URL:https://sedgefieldchurch.org/event/youth-event-2-2-2-2-2-2-2-2-2-2-2-2-4-2-3-2-4-2-2-2-2-2/
LOCATION:Southpark Church\, 3151 Apex Dr Suite 100\, Charlotte\, NC\, 28211\, United States
CATEGORIES:Youth
ATTACH;FMTTYPE=image/jpeg:https://sedgefieldchurch.org/wp-content/uploads/youthgroup-217x300.jpg
END:VEVENT
END:VCALENDAR