BEGIN:VCALENDAR
VERSION:2.0
PRODID:-//Sedgefield Church - ECPv5.16.4//NONSGML v1.0//EN
CALSCALE:GREGORIAN
METHOD:PUBLISH
X-WR-CALNAME:Sedgefield Church
X-ORIGINAL-URL:https://sedgefieldchurch.org
X-WR-CALDESC:Events for Sedgefield Church
BEGIN:VTIMEZONE
TZID:America/New_York
BEGIN:DAYLIGHT
TZOFFSETFROM:-0500
TZOFFSETTO:-0400
TZNAME:EDT
DTSTART:20240310T070000
END:DAYLIGHT
BEGIN:STANDARD
TZOFFSETFROM:-0400
TZOFFSETTO:-0500
TZNAME:EST
DTSTART:20241103T060000
END:STANDARD
END:VTIMEZONE
BEGIN:VEVENT
DTSTART;TZID=America/New_York:20241208T120000
DTEND;TZID=America/New_York:20241208T140000
DTSTAMP:20260420T170605
CREATED:20240913T144754Z
LAST-MODIFIED:20240913T144754Z
UID:11862-1733659200-1733666400@sedgefieldchurch.org
SUMMARY:Youth at RISE AGAINST HUNGER
DESCRIPTION:The youth will buy and pack thousands of meals for impoverished school children in 3rd world countries\, at the Rise Against Hunger warehouse at noon. 10825 Texland Blvd. B\, Charlotte\, NC\, 28273.
URL:https://sedgefieldchurch.org/event/youth-at-rise-against-hunger/
CATEGORIES:Youth
END:VEVENT
END:VCALENDAR