BEGIN:VCALENDAR
VERSION:2.0
PRODID:-//Sedgefield Church - ECPv5.16.4//NONSGML v1.0//EN
CALSCALE:GREGORIAN
METHOD:PUBLISH
X-WR-CALNAME:Sedgefield Church
X-ORIGINAL-URL:https://sedgefieldchurch.org
X-WR-CALDESC:Events for Sedgefield Church
BEGIN:VTIMEZONE
TZID:America/New_York
BEGIN:DAYLIGHT
TZOFFSETFROM:-0500
TZOFFSETTO:-0400
TZNAME:EDT
DTSTART:20200308T070000
END:DAYLIGHT
BEGIN:STANDARD
TZOFFSETFROM:-0400
TZOFFSETTO:-0500
TZNAME:EST
DTSTART:20201101T060000
END:STANDARD
END:VTIMEZONE
BEGIN:VEVENT
DTSTART;TZID=America/New_York:20201212T190000
DTEND;TZID=America/New_York:20201212T220000
DTSTAMP:20260423T222333
CREATED:20201024T114828Z
LAST-MODIFIED:20201205T132029Z
UID:8162-1607799600-1607810400@sedgefieldchurch.org
SUMMARY:Youth and Parents to OCC Processing Center
DESCRIPTION:THIS EVENT HAS BEEN CANCELLED – Our youth\, ages 13+\, and their parents will be volunteering at the Operation Christmas Child Processing Center.  The OCC processing center will practice social distancing and require all volunteers to wear masks. There are 20 slots. Contact Kimberly Little 704-617-4052 if you would like to join this group.
URL:https://sedgefieldchurch.org/event/youth-and-parents-to-occ-processing-center-2/
CATEGORIES:Missions,Youth
ATTACH;FMTTYPE=image/jpeg:https://sedgefieldchurch.org/wp-content/uploads/2014/10/Op-Christmas-Child-e1417014578605.jpg
END:VEVENT
END:VCALENDAR