BEGIN:VCALENDAR
VERSION:2.0
PRODID:-//Sedgefield Church - ECPv5.16.4//NONSGML v1.0//EN
CALSCALE:GREGORIAN
METHOD:PUBLISH
X-WR-CALNAME:Sedgefield Church
X-ORIGINAL-URL:https://sedgefieldchurch.org
X-WR-CALDESC:Events for Sedgefield Church
BEGIN:VTIMEZONE
TZID:America/New_York
BEGIN:DAYLIGHT
TZOFFSETFROM:-0500
TZOFFSETTO:-0400
TZNAME:EDT
DTSTART:20240310T070000
END:DAYLIGHT
BEGIN:STANDARD
TZOFFSETFROM:-0400
TZOFFSETTO:-0500
TZNAME:EST
DTSTART:20241103T060000
END:STANDARD
END:VTIMEZONE
BEGIN:VEVENT
DTSTART;TZID=America/New_York:20240623T160000
DTEND;TZID=America/New_York:20240623T170000
DTSTAMP:20260420T164444
CREATED:20240614T193844Z
LAST-MODIFIED:20240614T193844Z
UID:11659-1719158400-1719162000@sedgefieldchurch.org
SUMMARY:Walking the Labyrinth - Youth Event
DESCRIPTION:Pastor Lindsay of Southpark UMC will lead the walk at Avondale Presbyterian Church\, 2821 Park Road.
URL:https://sedgefieldchurch.org/event/walking-the-labyrinth-youth-event/
CATEGORIES:Youth
END:VEVENT
END:VCALENDAR