BEGIN:VCALENDAR
VERSION:2.0
PRODID:-//Sedgefield Church - ECPv5.16.4//NONSGML v1.0//EN
CALSCALE:GREGORIAN
METHOD:PUBLISH
X-WR-CALNAME:Sedgefield Church
X-ORIGINAL-URL:https://sedgefieldchurch.org
X-WR-CALDESC:Events for Sedgefield Church
BEGIN:VTIMEZONE
TZID:America/New_York
BEGIN:DAYLIGHT
TZOFFSETFROM:-0500
TZOFFSETTO:-0400
TZNAME:EDT
DTSTART:20240310T070000
END:DAYLIGHT
BEGIN:STANDARD
TZOFFSETFROM:-0400
TZOFFSETTO:-0500
TZNAME:EST
DTSTART:20241103T060000
END:STANDARD
END:VTIMEZONE
BEGIN:VEVENT
DTSTART;TZID=America/New_York:20240718T093000
DTEND;TZID=America/New_York:20240718T123000
DTSTAMP:20260420T141529
CREATED:20240103T202448Z
LAST-MODIFIED:20240103T202448Z
UID:11281-1721295000-1721305800@sedgefieldchurch.org
SUMMARY:VBS - Scuba - Diving into Friendship with God!
DESCRIPTION:Children from rising K to rising 5th grade are invited to dive into a friendship with God! Scuba will take the kids deep into an amazing undersea adventure where they’ll experience the ever-flowing\, never ending love of God. Registration is required.
URL:https://sedgefieldchurch.org/event/vbs-scuba-diving-into-friendship-with-god-2-2-2/
CATEGORIES:Children,Neighborhood
END:VEVENT
END:VCALENDAR