BEGIN:VCALENDAR
VERSION:2.0
PRODID:-//Sedgefield Church - ECPv5.16.4//NONSGML v1.0//EN
CALSCALE:GREGORIAN
METHOD:PUBLISH
X-WR-CALNAME:Sedgefield Church
X-ORIGINAL-URL:https://sedgefieldchurch.org
X-WR-CALDESC:Events for Sedgefield Church
BEGIN:VTIMEZONE
TZID:America/New_York
BEGIN:DAYLIGHT
TZOFFSETFROM:-0500
TZOFFSETTO:-0400
TZNAME:EDT
DTSTART:20250309T070000
END:DAYLIGHT
BEGIN:STANDARD
TZOFFSETFROM:-0400
TZOFFSETTO:-0500
TZNAME:EST
DTSTART:20251102T060000
END:STANDARD
END:VTIMEZONE
BEGIN:VEVENT
DTSTART;TZID=America/New_York:20250714T093000
DTEND;TZID=America/New_York:20250714T123000
DTSTAMP:20260419T211632
CREATED:20240927T162428Z
LAST-MODIFIED:20240927T162428Z
UID:11893-1752485400-1752496200@sedgefieldchurch.org
SUMMARY:VBS - True North - Trusting Jesus in a Wild World!
DESCRIPTION:Children from rising K to rising 5th grade are invited to participate in VBS. Older chidren and Teens are encouraged to volunteer to help.  VBS is free\, but registration is required\, so look for a registration link later.
URL:https://sedgefieldchurch.org/event/vbs-scuba-diving-into-friendship-with-god-2-2-2-2/
CATEGORIES:Children,Neighborhood
END:VEVENT
END:VCALENDAR