BEGIN:VCALENDAR
VERSION:2.0
PRODID:-//Sedgefield Church - ECPv5.16.4//NONSGML v1.0//EN
CALSCALE:GREGORIAN
METHOD:PUBLISH
X-WR-CALNAME:Sedgefield Church
X-ORIGINAL-URL:https://sedgefieldchurch.org
X-WR-CALDESC:Events for Sedgefield Church
BEGIN:VTIMEZONE
TZID:America/New_York
BEGIN:DAYLIGHT
TZOFFSETFROM:-0500
TZOFFSETTO:-0400
TZNAME:EDT
DTSTART:20250309T070000
END:DAYLIGHT
BEGIN:STANDARD
TZOFFSETFROM:-0400
TZOFFSETTO:-0500
TZNAME:EST
DTSTART:20251102T060000
END:STANDARD
END:VTIMEZONE
BEGIN:VEVENT
DTSTART;TZID=America/New_York:20251127T080000
DTEND;TZID=America/New_York:20251127T093000
DTSTAMP:20260420T112330
CREATED:20251010T172726Z
LAST-MODIFIED:20251010T172726Z
UID:12546-1764230400-1764235800@sedgefieldchurch.org
SUMMARY:Thanksgiving Breakfast
DESCRIPTION:For over 50 years the men of the church have served breakfast to our families\, guests and friends on Thanksgiving morning. The tradition continues.  It is a time to visit with old friends and new alike over a delicious breakfast of eggs\, bacon\, sausage\, pancakes\, grits\, Betty’s biscuits\, juice\, milk and “bottomless” cups of coffee!  Drop by from 8am to 9:30am . FREE. Donations are accepted. And if you would like to help with this event\, text Tom Little at 704-699-8697.
URL:https://sedgefieldchurch.org/event/thanksgiving-breakfast-2-3-2-2/
CATEGORIES:All Ages,Featured,Neighborhood,Social
ATTACH;FMTTYPE=image/jpeg:https://sedgefieldchurch.org/wp-content/uploads/Thanksgiving-Breakfast.jpg
END:VEVENT
END:VCALENDAR