BEGIN:VCALENDAR
VERSION:2.0
PRODID:-//Sedgefield Church - ECPv5.16.4//NONSGML v1.0//EN
CALSCALE:GREGORIAN
METHOD:PUBLISH
X-WR-CALNAME:Sedgefield Church
X-ORIGINAL-URL:https://sedgefieldchurch.org
X-WR-CALDESC:Events for Sedgefield Church
BEGIN:VTIMEZONE
TZID:America/New_York
BEGIN:DAYLIGHT
TZOFFSETFROM:-0500
TZOFFSETTO:-0400
TZNAME:EDT
DTSTART:20200308T070000
END:DAYLIGHT
BEGIN:STANDARD
TZOFFSETFROM:-0400
TZOFFSETTO:-0500
TZNAME:EST
DTSTART:20201101T060000
END:STANDARD
END:VTIMEZONE
BEGIN:VEVENT
DTSTART;TZID=America/New_York:20201207T130000
DTEND;TZID=America/New_York:20201207T170000
DTSTAMP:20260423T205104
CREATED:20201024T115124Z
LAST-MODIFIED:20201205T132112Z
UID:8164-1607346000-1607360400@sedgefieldchurch.org
SUMMARY:Susanna Wesley Circle - OCC Processing Center
DESCRIPTION:THIS EVENT HAS BEEN CANCELLED – The Susanna Wesley Circle and any others who would like to join us are volunteering at The Operation Christmas Child Processing Center. The OCC processing center will practice social distancing and require all volunteers to wear masks. If you are interested in finding out more about this group contact Carol Little.  \n 
URL:https://sedgefieldchurch.org/event/susanna-wesley-circle-water-and-expo-markers-for-mentoring-2-2-2-2-2-2-2-2-2-2-2/
CATEGORIES:Missions,Volunteer
ATTACH;FMTTYPE=image/jpeg:https://sedgefieldchurch.org/wp-content/uploads/2014/10/Op-Christmas-Child-e1417014578605.jpg
END:VEVENT
END:VCALENDAR