BEGIN:VCALENDAR
VERSION:2.0
PRODID:-//Sedgefield Church - ECPv5.16.4//NONSGML v1.0//EN
CALSCALE:GREGORIAN
METHOD:PUBLISH
X-WR-CALNAME:Sedgefield Church
X-ORIGINAL-URL:https://sedgefieldchurch.org
X-WR-CALDESC:Events for Sedgefield Church
BEGIN:VTIMEZONE
TZID:America/New_York
BEGIN:DAYLIGHT
TZOFFSETFROM:-0500
TZOFFSETTO:-0400
TZNAME:EDT
DTSTART:20230312T070000
END:DAYLIGHT
BEGIN:STANDARD
TZOFFSETFROM:-0400
TZOFFSETTO:-0500
TZNAME:EST
DTSTART:20231105T060000
END:STANDARD
END:VTIMEZONE
BEGIN:VEVENT
DTSTART;TZID=America/New_York:20230511T183000
DTEND;TZID=America/New_York:20230511T200000
DTSTAMP:20260421T173825
CREATED:20230103T220626Z
LAST-MODIFIED:20230501T201441Z
UID:10390-1683829800-1683835200@sedgefieldchurch.org
SUMMARY:Susanna Wesley Circle - Roll With It Movie
DESCRIPTION:This month the circle will be attending the movie\, Roll With It starring the Christian Comedian\, Chandra Pierce. Tickets have been pre-purchased. If you have registered\, meet at the church to carpool as planned or meet at Stonecrest Theater for the 7pm showing. \nThe Susanna Wesley Circle is a supportive and encouraging group of women who engage in service efforts that support women\, children and youth\, as well as our church. We meet monthly\, usually on the second Thursday evening of the month. Come as you are. If you are interested in finding out more about this group contact Carol Little.
URL:https://sedgefieldchurch.org/event/susanna-wesley-circle-sewing-supplies-for-sedgefield-ms-club-2-2-2-2-2-2-2-2-2-2-2-3-3-2-3-2-2-2-2-2-2-2-2-2-2-2-2-2-2-2-2/
CATEGORIES:Missions,Social,Women
ATTACH;FMTTYPE=image/jpeg:https://sedgefieldchurch.org/wp-content/uploads/womens-group.jpeg
END:VEVENT
END:VCALENDAR