BEGIN:VCALENDAR
VERSION:2.0
PRODID:-//Sedgefield Church - ECPv5.16.4//NONSGML v1.0//EN
CALSCALE:GREGORIAN
METHOD:PUBLISH
X-WR-CALNAME:Sedgefield Church
X-ORIGINAL-URL:https://sedgefieldchurch.org
X-WR-CALDESC:Events for Sedgefield Church
BEGIN:VTIMEZONE
TZID:America/New_York
BEGIN:DAYLIGHT
TZOFFSETFROM:-0500
TZOFFSETTO:-0400
TZNAME:EDT
DTSTART:20240310T070000
END:DAYLIGHT
BEGIN:STANDARD
TZOFFSETFROM:-0400
TZOFFSETTO:-0500
TZNAME:EST
DTSTART:20241103T060000
END:STANDARD
END:VTIMEZONE
BEGIN:VEVENT
DTSTART;TZID=America/New_York:20240314T183000
DTEND;TZID=America/New_York:20240314T200000
DTSTAMP:20260419T170409
CREATED:20240103T203017Z
LAST-MODIFIED:20240103T203017Z
UID:11287-1710441000-1710446400@sedgefieldchurch.org
SUMMARY:Susanna Wesley Circle
DESCRIPTION:The Susanna Wesley Circle is a supportive and encouraging group of women who engage in service efforts that support women\, children and youth\, as well as our church. We meet monthly\, usually on the second Thursday evening of the month. Come as you are. If you are interested in finding out more about this group contact Carol Little.
URL:https://sedgefieldchurch.org/event/susanna-wesley-circle-23-2-2/
CATEGORIES:Missions,Social,Women
ATTACH;FMTTYPE=image/jpeg:https://sedgefieldchurch.org/wp-content/uploads/womens-group.jpeg
END:VEVENT
END:VCALENDAR