BEGIN:VCALENDAR
VERSION:2.0
PRODID:-//Sedgefield Church - ECPv5.16.4//NONSGML v1.0//EN
CALSCALE:GREGORIAN
METHOD:PUBLISH
X-WR-CALNAME:Sedgefield Church
X-ORIGINAL-URL:https://sedgefieldchurch.org
X-WR-CALDESC:Events for Sedgefield Church
BEGIN:VTIMEZONE
TZID:America/New_York
BEGIN:DAYLIGHT
TZOFFSETFROM:-0500
TZOFFSETTO:-0400
TZNAME:EDT
DTSTART:20210314T070000
END:DAYLIGHT
BEGIN:STANDARD
TZOFFSETFROM:-0400
TZOFFSETTO:-0500
TZNAME:EST
DTSTART:20211107T060000
END:STANDARD
END:VTIMEZONE
BEGIN:VEVENT
DTSTART;TZID=America/New_York:20210804T100000
DTEND;TZID=America/New_York:20210804T120000
DTSTAMP:20260424T151523
CREATED:20210623T003011Z
LAST-MODIFIED:20210623T003437Z
UID:8919-1628071200-1628078400@sedgefieldchurch.org
SUMMARY:Summer Fun Day - Party Pets
DESCRIPTION:This one sounds like a lot of fun. Kids are invited for some play time on the playground and some time to meet some “party animals”. Optional – Kids may pack a picnic lunch and eat under the shade tree at noon.
URL:https://sedgefieldchurch.org/event/summer-fun-day-clay-art-2-2-2/
CATEGORIES:Children,Neighborhood
ATTACH;FMTTYPE=image/jpeg:https://sedgefieldchurch.org/wp-content/uploads/SummerFundays.jpg
END:VEVENT
END:VCALENDAR