BEGIN:VCALENDAR
VERSION:2.0
PRODID:-//Sedgefield Church - ECPv5.16.4//NONSGML v1.0//EN
CALSCALE:GREGORIAN
METHOD:PUBLISH
X-WR-CALNAME:Sedgefield Church
X-ORIGINAL-URL:https://sedgefieldchurch.org
X-WR-CALDESC:Events for Sedgefield Church
BEGIN:VTIMEZONE
TZID:America/New_York
BEGIN:DAYLIGHT
TZOFFSETFROM:-0500
TZOFFSETTO:-0400
TZNAME:EDT
DTSTART:20240310T070000
END:DAYLIGHT
BEGIN:STANDARD
TZOFFSETFROM:-0400
TZOFFSETTO:-0500
TZNAME:EST
DTSTART:20241103T060000
END:STANDARD
END:VTIMEZONE
BEGIN:VEVENT
DTSTART;TZID=America/New_York:20240311T183000
DTEND;TZID=America/New_York:20240311T193000
DTSTAMP:20260419T195834
CREATED:20240109T152510Z
LAST-MODIFIED:20240109T152510Z
UID:11331-1710181800-1710185400@sedgefieldchurch.org
SUMMARY:Staff Parish Relations Committee
DESCRIPTION:Meeting in the Parlor
URL:https://sedgefieldchurch.org/event/staff-parish-relations-committee-2-2-2-2/
CATEGORIES:Committee
ATTACH;FMTTYPE=image/jpeg:https://sedgefieldchurch.org/wp-content/uploads/STAFF-PARISH-RELATIONS-COMMITTEE-7X5.jpg
END:VEVENT
END:VCALENDAR