BEGIN:VCALENDAR
VERSION:2.0
PRODID:-//Sedgefield Church - ECPv5.16.4//NONSGML v1.0//EN
CALSCALE:GREGORIAN
METHOD:PUBLISH
X-WR-CALNAME:Sedgefield Church
X-ORIGINAL-URL:https://sedgefieldchurch.org
X-WR-CALDESC:Events for Sedgefield Church
BEGIN:VTIMEZONE
TZID:America/New_York
BEGIN:DAYLIGHT
TZOFFSETFROM:-0500
TZOFFSETTO:-0400
TZNAME:EDT
DTSTART:20210314T070000
END:DAYLIGHT
BEGIN:STANDARD
TZOFFSETFROM:-0400
TZOFFSETTO:-0500
TZNAME:EST
DTSTART:20211107T060000
END:STANDARD
END:VTIMEZONE
BEGIN:VEVENT
DTSTART;TZID=America/New_York:20210117T103000
DTEND;TZID=America/New_York:20210117T113000
DTSTAMP:20260424T094842
CREATED:20210108T201954Z
LAST-MODIFIED:20210108T202407Z
UID:8391-1610879400-1610883000@sedgefieldchurch.org
SUMMARY:Worship via Facebook LIVE
DESCRIPTION:Due to the risk of the Coronavirus\, the normal Sunday worship activities at the church have been suspended. You will be able to hear the message from Pastor Jim at 10:30 am by remote broadcast via Facebook Live. A Facebook account is not required to get the broadcast! \nFacebook users can view the broadcast by going to the Sedgefield Church Facebook page. \nIf you are not a Facebook user\, CLICK HERE to view the remote broadcast. You will need to scroll down to find the “live” video. \nIf you are not able to watch the service live\, you can watch the recorded service at any time.
URL:https://sedgefieldchurch.org/event/small-groups-and-worship-cancelled-2-2-7-2-2-2-2-2-2-2-2-2-2-2-2-2-3-2/
CATEGORIES:All Ages,Worship
ATTACH;FMTTYPE=image/png:https://sedgefieldchurch.org/wp-content/uploads/Tune-into-FB-Live-Worship.png
END:VEVENT
END:VCALENDAR