BEGIN:VCALENDAR
VERSION:2.0
PRODID:-//Sedgefield Church - ECPv5.16.4//NONSGML v1.0//EN
CALSCALE:GREGORIAN
METHOD:PUBLISH
X-WR-CALNAME:Sedgefield Church
X-ORIGINAL-URL:https://sedgefieldchurch.org
X-WR-CALDESC:Events for Sedgefield Church
BEGIN:VTIMEZONE
TZID:America/New_York
BEGIN:DAYLIGHT
TZOFFSETFROM:-0500
TZOFFSETTO:-0400
TZNAME:EDT
DTSTART:20230312T070000
END:DAYLIGHT
BEGIN:STANDARD
TZOFFSETFROM:-0400
TZOFFSETTO:-0500
TZNAME:EST
DTSTART:20231105T060000
END:STANDARD
END:VTIMEZONE
BEGIN:VEVENT
DTSTART;TZID=America/New_York:20230402T103000
DTEND;TZID=America/New_York:20230402T113000
DTSTAMP:20260421T102949
CREATED:20230128T145821Z
LAST-MODIFIED:20230128T145821Z
UID:10505-1680431400-1680435000@sedgefieldchurch.org
SUMMARY:Palm Sunday Worship
DESCRIPTION:The children will process with palm branches as we remember Jesus’ triumphal entry into Jerusalem and begin Holy Week. This will be a service of music.
URL:https://sedgefieldchurch.org/event/small-groups-and-worship-cancelled-2-2-7-2-2-2-2-2-2-2-2-2-2-2-2-2-2-2-2-2-2-3/
CATEGORIES:All Ages,Children,Worship
ATTACH;FMTTYPE=image/jpeg:https://sedgefieldchurch.org/wp-content/uploads/palm-branch-e1586007240492.jpg
END:VEVENT
END:VCALENDAR