BEGIN:VCALENDAR
VERSION:2.0
PRODID:-//Sedgefield Church - ECPv5.16.4//NONSGML v1.0//EN
CALSCALE:GREGORIAN
METHOD:PUBLISH
X-WR-CALNAME:Sedgefield Church
X-ORIGINAL-URL:https://sedgefieldchurch.org
X-WR-CALDESC:Events for Sedgefield Church
BEGIN:VTIMEZONE
TZID:America/New_York
BEGIN:DAYLIGHT
TZOFFSETFROM:-0500
TZOFFSETTO:-0400
TZNAME:EDT
DTSTART:20220313T070000
END:DAYLIGHT
BEGIN:STANDARD
TZOFFSETFROM:-0400
TZOFFSETTO:-0500
TZNAME:EST
DTSTART:20221106T060000
END:STANDARD
END:VTIMEZONE
BEGIN:VEVENT
DTSTART;TZID=America/New_York:20220417T103000
DTEND;TZID=America/New_York:20220417T103000
DTSTAMP:20260424T081232
CREATED:20220127T162714Z
LAST-MODIFIED:20220127T162912Z
UID:9689-1650191400-1650191400@sedgefieldchurch.org
SUMMARY:Easter Sunday Worship In-Person and Online
DESCRIPTION:
URL:https://sedgefieldchurch.org/event/small-groups-and-worship-cancelled-2-2-7-2-2-2-2-2-2-2-2-2-2-2-2-2-2-2-2-2-2-2-3/
CATEGORIES:All Ages,Featured,Worship
ATTACH;FMTTYPE=image/jpeg:https://sedgefieldchurch.org/wp-content/uploads/flower-cross-easter-2018.jpeg
END:VEVENT
END:VCALENDAR