BEGIN:VCALENDAR
VERSION:2.0
PRODID:-//Sedgefield Church - ECPv5.16.4//NONSGML v1.0//EN
CALSCALE:GREGORIAN
METHOD:PUBLISH
X-WR-CALNAME:Sedgefield Church
X-ORIGINAL-URL:https://sedgefieldchurch.org
X-WR-CALDESC:Events for Sedgefield Church
BEGIN:VTIMEZONE
TZID:America/New_York
BEGIN:DAYLIGHT
TZOFFSETFROM:-0500
TZOFFSETTO:-0400
TZNAME:EDT
DTSTART:20210314T070000
END:DAYLIGHT
BEGIN:STANDARD
TZOFFSETFROM:-0400
TZOFFSETTO:-0500
TZNAME:EST
DTSTART:20211107T060000
END:STANDARD
END:VTIMEZONE
BEGIN:VEVENT
DTSTART;TZID=America/New_York:20210620T103000
DTEND;TZID=America/New_York:20210620T113000
DTSTAMP:20260424T193832
CREATED:20210529T141750Z
LAST-MODIFIED:20210618T200435Z
UID:8833-1624185000-1624188600@sedgefieldchurch.org
SUMMARY:Sunday Worship In-Person and via Facebook
DESCRIPTION:Masks are no longer required if you are FULLY VACCINATED. This is defined as two weeks following your second covid vaccination shot. Seating remains to be spaced out between people or groups of people who are not sitting together. We are looking forward to seeing your beautiful faces in worship. \nIf you are not attending in-person\, you will still be able to hear the message from Pastor Jim at 10:35 am by remote broadcast via Facebook Live or view the recording at any later time. Facebook users can view the broadcast by going to the Sedgefield Church Facebook page. If you are not a Facebook user\, CLICK HERE to view the broadcast. You will need to scroll down to find the “live” video.
URL:https://sedgefieldchurch.org/event/small-groups-and-worship-cancelled-2-2-7-2-2-2-2-2-2-2-2-2-2-2-2-2-2-2-2-2-2-2-2-2-2-2-2-2-2-2-2-2-2/
CATEGORIES:All Ages,Featured,Worship
ATTACH;FMTTYPE=image/png:https://sedgefieldchurch.org/wp-content/uploads/Worship-In-Person-or-Online.png
END:VEVENT
END:VCALENDAR