BEGIN:VCALENDAR
VERSION:2.0
PRODID:-//Sedgefield Church - ECPv5.16.4//NONSGML v1.0//EN
CALSCALE:GREGORIAN
METHOD:PUBLISH
X-WR-CALNAME:Sedgefield Church
X-ORIGINAL-URL:https://sedgefieldchurch.org
X-WR-CALDESC:Events for Sedgefield Church
BEGIN:VTIMEZONE
TZID:America/New_York
BEGIN:DAYLIGHT
TZOFFSETFROM:-0500
TZOFFSETTO:-0400
TZNAME:EDT
DTSTART:20210314T070000
END:DAYLIGHT
BEGIN:STANDARD
TZOFFSETFROM:-0400
TZOFFSETTO:-0500
TZNAME:EST
DTSTART:20211107T060000
END:STANDARD
END:VTIMEZONE
BEGIN:VEVENT
DTSTART;TZID=America/New_York:20211226T103000
DTEND;TZID=America/New_York:20211226T113000
DTSTAMP:20260424T164543
CREATED:20211119T195739Z
LAST-MODIFIED:20211223T152718Z
UID:9450-1640514600-1640518200@sedgefieldchurch.org
SUMMARY:Sunday Worship In-Person
DESCRIPTION:Due to the increase in COVID numbers\, we are again asking everyone attending to wear a mask. Thank you for your caring cooperation. \nMERRY CHRISTMAS
URL:https://sedgefieldchurch.org/event/small-groups-and-worship-cancelled-2-2-7-2-2-2-2-2-2-2-2-2-2-2-2-2-2-2-2-2-2-2-2-2-2-2-2-2-2-2-2-2-2-2-2-3-2-2-2-2-2-2-2-2-2-2-2-2-2-2-2-2-2-2-2-2-2-2-2/
CATEGORIES:All Ages,Featured,Worship
ATTACH;FMTTYPE=image/png:https://sedgefieldchurch.org/wp-content/uploads/Worship-In-Person-or-Online.png
END:VEVENT
END:VCALENDAR