BEGIN:VCALENDAR
VERSION:2.0
PRODID:-//Sedgefield Church - ECPv5.16.4//NONSGML v1.0//EN
CALSCALE:GREGORIAN
METHOD:PUBLISH
X-WR-CALNAME:Sedgefield Church
X-ORIGINAL-URL:https://sedgefieldchurch.org
X-WR-CALDESC:Events for Sedgefield Church
BEGIN:VTIMEZONE
TZID:America/New_York
BEGIN:DAYLIGHT
TZOFFSETFROM:-0500
TZOFFSETTO:-0400
TZNAME:EDT
DTSTART:20250309T070000
END:DAYLIGHT
BEGIN:STANDARD
TZOFFSETFROM:-0400
TZOFFSETTO:-0500
TZNAME:EST
DTSTART:20251102T060000
END:STANDARD
END:VTIMEZONE
BEGIN:VEVENT
DTSTART;TZID=America/New_York:20250817T164500
DTEND;TZID=America/New_York:20250817T180000
DTSTAMP:20260419T230925
CREATED:20250725T140212Z
LAST-MODIFIED:20250725T140212Z
UID:12417-1755449100-1755453600@sedgefieldchurch.org
SUMMARY:Serve at Rebound - Dinner
DESCRIPTION:Serve the evening meal at Charlotte Rescue Mission. Meet at Rebound. \nContact Rob Neill\, RNeill@primaxproperties.com\, for details.
URL:https://sedgefieldchurch.org/event/serve-at-rebound-6-5-9-2-2-2-2-2-2-2-2-2-2-2-2-2-2-3-2-2-3-2-2-2-2-2-2-2-2-2-2-2-2-2-2-2-2-2-2-2-2-2-3-2-2-2-2-2-2-2-2-2-2-2-2-2-2-2-2-2/
LOCATION:Rebound\, 907 W. 1st Street\, Charlotte\, North Carolina\, 28202\, United States
CATEGORIES:Missions,Volunteer
ATTACH;FMTTYPE=image/jpeg:https://sedgefieldchurch.org/wp-content/uploads/charlotte-rescue-mission-banner.jpg
END:VEVENT
END:VCALENDAR