BEGIN:VCALENDAR
VERSION:2.0
PRODID:-//Sedgefield Church - ECPv5.16.4//NONSGML v1.0//EN
CALSCALE:GREGORIAN
METHOD:PUBLISH
X-WR-CALNAME:Sedgefield Church
X-ORIGINAL-URL:https://sedgefieldchurch.org
X-WR-CALDESC:Events for Sedgefield Church
BEGIN:VTIMEZONE
TZID:America/New_York
BEGIN:DAYLIGHT
TZOFFSETFROM:-0500
TZOFFSETTO:-0400
TZNAME:EDT
DTSTART:20240310T070000
END:DAYLIGHT
BEGIN:STANDARD
TZOFFSETFROM:-0400
TZOFFSETTO:-0500
TZNAME:EST
DTSTART:20241103T060000
END:STANDARD
END:VTIMEZONE
BEGIN:VEVENT
DTSTART;TZID=America/New_York:20240921T090000
DTEND;TZID=America/New_York:20240921T130000
DTSTAMP:20260421T111100
CREATED:20240912T150054Z
LAST-MODIFIED:20240912T150154Z
UID:11805-1726909200-1726923600@sedgefieldchurch.org
SUMMARY:Sedgefield Neighborhood Yardsale
DESCRIPTION:We are holding a Sedgefield Neighborhood Yard Sale on Saturday\, September 21st from 9:00 a.m. – 1:00 p.m. If you’ve ever thought of setting up a yard sale for yourself\, but don’t want to deal with the hassle of getting a permit\, doing the marketing\, and having thrifters show up on your doorstep at the crack of dawn\, this is the opportunity for you! \n·    What: A community yard sale! A one-stop-shop for buyers seeking their Saturday yard sale deals! \n·    When: Saturday\, September 21st\, from 9:00 a.m. to 1:00 p.m. with setup starting at 8:00 a.m. \n·    Where: 2830 Dorchester Place. We have once again partnered with the Sedgefield Church and they have graciously offered their parking lot to sellers. \n·    More details: We will advertise in several spots and will place signs out in high-traffic areas. A recommended small donation of $5-$10 per participating household is suggested to offer the church for their hospitality. We are also working to find an organization to which unsold items can be donated\, assuming they will come pick up after the sale is over. \n·    What next? If you are interested in participating as a seller\, please sign up and register for a spot. This will help us plan out the space\, and also allow us to include all items in our advertising.
URL:https://sedgefieldchurch.org/event/sedgefield-neighborhood-yardsale/
CATEGORIES:All Ages,Neighborhood
ATTACH;FMTTYPE=image/jpeg:https://sedgefieldchurch.org/wp-content/uploads/yard-sale.jpg
END:VEVENT
END:VCALENDAR