BEGIN:VCALENDAR
VERSION:2.0
PRODID:-//Sedgefield Church - ECPv5.16.4//NONSGML v1.0//EN
CALSCALE:GREGORIAN
METHOD:PUBLISH
X-WR-CALNAME:Sedgefield Church
X-ORIGINAL-URL:https://sedgefieldchurch.org
X-WR-CALDESC:Events for Sedgefield Church
BEGIN:VTIMEZONE
TZID:America/New_York
BEGIN:DAYLIGHT
TZOFFSETFROM:-0500
TZOFFSETTO:-0400
TZNAME:EDT
DTSTART:20250309T070000
END:DAYLIGHT
BEGIN:STANDARD
TZOFFSETFROM:-0400
TZOFFSETTO:-0500
TZNAME:EST
DTSTART:20251102T060000
END:STANDARD
END:VTIMEZONE
BEGIN:VEVENT
DTSTART;TZID=America/New_York:20250824T110000
DTEND;TZID=America/New_York:20250824T150000
DTSTAMP:20260419T223346
CREATED:20250723T201710Z
LAST-MODIFIED:20250723T201710Z
UID:12404-1756033200-1756047600@sedgefieldchurch.org
SUMMARY:BLOOD DRIVE
DESCRIPTION:For an appointment CLICK HERE. Walk ups are welcome! Each donors receives a $20 egift card\, a OneBlood t-shirt\, and a wellness checkup including blood pressure\, pulse\, temperature\, iron count and cholesterol screening. To be eligible you must be at least 17 years old\, be at least 110 pounds\, and be in generally good health. Before donating\, get a good night’s sleep\, drink plenty of fluids and eat within 2-3 hours. We hope to see you at the blood drive. The Big Red Bus will be in the church parking lot.
URL:https://sedgefieldchurch.org/event/sedgefield-blood-drive-2-2/
CATEGORIES:Adult,Missions,Neighborhood
ATTACH;FMTTYPE=image/avif:https://sedgefieldchurch.org/wp-content/uploads/Big-Red-Bus-angle-L-rgb-3inch.avif
END:VEVENT
END:VCALENDAR