BEGIN:VCALENDAR
VERSION:2.0
PRODID:-//Sedgefield Church - ECPv5.16.4//NONSGML v1.0//EN
CALSCALE:GREGORIAN
METHOD:PUBLISH
X-WR-CALNAME:Sedgefield Church
X-ORIGINAL-URL:https://sedgefieldchurch.org
X-WR-CALDESC:Events for Sedgefield Church
BEGIN:VTIMEZONE
TZID:America/New_York
BEGIN:DAYLIGHT
TZOFFSETFROM:-0500
TZOFFSETTO:-0400
TZNAME:EDT
DTSTART:20250309T070000
END:DAYLIGHT
BEGIN:STANDARD
TZOFFSETFROM:-0400
TZOFFSETTO:-0500
TZNAME:EST
DTSTART:20251102T060000
END:STANDARD
END:VTIMEZONE
BEGIN:VEVENT
DTSTART;TZID=America/New_York:20251023T100000
DTEND;TZID=America/New_York:20251023T113000
DTSTAMP:20260419T180826
CREATED:20251017T133746Z
LAST-MODIFIED:20251017T201559Z
UID:12551-1761213600-1761219000@sedgefieldchurch.org
SUMMARY:SAIL Fitness Class
DESCRIPTION:Stay Active & Independent for Life (SAIL) Fitness Class for older adults. You can sit or stand during the class. Bring water to drink. Wear flexible\, supportive rubber-soled shoes. Bring 1.5 lb. weights if you have a set. \nFor more information or to RSVP: email Angela Bryan at abryan01@novanthealth.org
URL:https://sedgefieldchurch.org/event/sail-fitness-class/
CATEGORIES:Adult,Neighborhood,Social
ATTACH;FMTTYPE=image/webp:https://sedgefieldchurch.org/wp-content/uploads/SailLogo.webp
END:VEVENT
END:VCALENDAR