BEGIN:VCALENDAR
VERSION:2.0
PRODID:-//Sedgefield Church - ECPv5.16.4//NONSGML v1.0//EN
CALSCALE:GREGORIAN
METHOD:PUBLISH
X-WR-CALNAME:Sedgefield Church
X-ORIGINAL-URL:https://sedgefieldchurch.org
X-WR-CALDESC:Events for Sedgefield Church
BEGIN:VTIMEZONE
TZID:America/New_York
BEGIN:DAYLIGHT
TZOFFSETFROM:-0500
TZOFFSETTO:-0400
TZNAME:EDT
DTSTART:20260308T070000
END:DAYLIGHT
BEGIN:STANDARD
TZOFFSETFROM:-0400
TZOFFSETTO:-0500
TZNAME:EST
DTSTART:20261101T060000
END:STANDARD
END:VTIMEZONE
BEGIN:VEVENT
DTSTART;TZID=America/New_York:20260111T173000
DTEND;TZID=America/New_York:20260112T073000
DTSTAMP:20260420T031651
CREATED:20251114T173803Z
LAST-MODIFIED:20251114T173803Z
UID:12617-1768152600-1768203000@sedgefieldchurch.org
SUMMARY:Room In The Inn
DESCRIPTION:We are excited to be a part of the ministry of Room In The Inn. It is a blessing to again partner with Avondale Presbyterian Church at 2821 Park Road to provide food and shelter for Charlotte’s homeless during the winter months. Our responsibilities will include meal preparation\, serving meals\, setting up\, cleaning up and providing someone for overnight stay.  We will serve dinner Sunday evening and prepare a to-go breakfast and lunch for Monday morning. Look for a Sign Up Genius to provide needed items or help to serve.
URL:https://sedgefieldchurch.org/event/room-in-the-inn-5-2-2-3-3-2-2-3-3-3-2/
LOCATION:Avondale Presbyterian Church\, 2821 Park Road\, Charlotte\, NC\, 28209\, United States
CATEGORIES:Missions
ATTACH;FMTTYPE=image/png:https://sedgefieldchurch.org/wp-content/uploads/roominn-icon.png
END:VEVENT
END:VCALENDAR