BEGIN:VCALENDAR
VERSION:2.0
PRODID:-//Sedgefield Church - ECPv5.16.4//NONSGML v1.0//EN
CALSCALE:GREGORIAN
METHOD:PUBLISH
X-WR-CALNAME:Sedgefield Church
X-ORIGINAL-URL:https://sedgefieldchurch.org
X-WR-CALDESC:Events for Sedgefield Church
BEGIN:VTIMEZONE
TZID:America/New_York
BEGIN:DAYLIGHT
TZOFFSETFROM:-0500
TZOFFSETTO:-0400
TZNAME:EDT
DTSTART:20220313T070000
END:DAYLIGHT
BEGIN:STANDARD
TZOFFSETFROM:-0400
TZOFFSETTO:-0500
TZNAME:EST
DTSTART:20221106T060000
END:STANDARD
END:VTIMEZONE
BEGIN:VEVENT
DTSTART;TZID=America/New_York:20220904T113000
DTEND;TZID=America/New_York:20220904T120000
DTSTAMP:20260421T215100
CREATED:20220902T165749Z
LAST-MODIFIED:20220902T165749Z
UID:10129-1662291000-1662292800@sedgefieldchurch.org
SUMMARY:Reception for Charlotte Guthrie
DESCRIPTION:Charlotte has been our office administrator for 6 years and has gone above and beyond her job description in service to our congregation. She is moving back to Kentucky to be closer to family. We will celebrate her and wish her well with a reception on the lawn following worship.
URL:https://sedgefieldchurch.org/event/reception-for-charlotte-guthrie/
END:VEVENT
END:VCALENDAR