BEGIN:VCALENDAR
VERSION:2.0
PRODID:-//Sedgefield Church - ECPv5.16.4//NONSGML v1.0//EN
CALSCALE:GREGORIAN
METHOD:PUBLISH
X-WR-CALNAME:Sedgefield Church
X-ORIGINAL-URL:https://sedgefieldchurch.org
X-WR-CALDESC:Events for Sedgefield Church
BEGIN:VTIMEZONE
TZID:America/New_York
BEGIN:DAYLIGHT
TZOFFSETFROM:-0500
TZOFFSETTO:-0400
TZNAME:EDT
DTSTART:20240310T070000
END:DAYLIGHT
BEGIN:STANDARD
TZOFFSETFROM:-0400
TZOFFSETTO:-0500
TZNAME:EST
DTSTART:20241103T060000
END:STANDARD
END:VTIMEZONE
BEGIN:VEVENT
DTSTART;TZID=America/New_York:20240519T103000
DTEND;TZID=America/New_York:20240519T113000
DTSTAMP:20260421T031036
CREATED:20240510T165533Z
LAST-MODIFIED:20240510T165533Z
UID:11608-1716114600-1716118200@sedgefieldchurch.org
SUMMARY:Pentecost Sunday - Wear RED
DESCRIPTION:The Feast of Pentecost was celebrated 50 days after the Jewish Passover (minus Sabbath days). This was a Jewish festival giving thanks for the first fruits of the corn harvest. Acts 2:1 notes that on the Day of Pentecost\, the Holy Spirit descended on Jesus’ disciples. This event was called Pentecost by the early Christian Church. And it is observed today as the birth of the Church. \nFrom “What is Pentecost” The Upper Room
URL:https://sedgefieldchurch.org/event/pentecost-sunday-wear-red-2/
CATEGORIES:Worship
ATTACH;FMTTYPE=image/jpeg:https://sedgefieldchurch.org/wp-content/uploads/Pentecost.jpg
END:VEVENT
END:VCALENDAR