BEGIN:VCALENDAR
VERSION:2.0
PRODID:-//Sedgefield Church - ECPv5.16.4//NONSGML v1.0//EN
CALSCALE:GREGORIAN
METHOD:PUBLISH
X-WR-CALNAME:Sedgefield Church
X-ORIGINAL-URL:https://sedgefieldchurch.org
X-WR-CALDESC:Events for Sedgefield Church
BEGIN:VTIMEZONE
TZID:America/New_York
BEGIN:DAYLIGHT
TZOFFSETFROM:-0500
TZOFFSETTO:-0400
TZNAME:EDT
DTSTART:20260308T070000
END:DAYLIGHT
BEGIN:STANDARD
TZOFFSETFROM:-0400
TZOFFSETTO:-0500
TZNAME:EST
DTSTART:20261101T060000
END:STANDARD
END:VTIMEZONE
BEGIN:VEVENT
DTSTART;TZID=America/New_York:20261024T103000
DTEND;TZID=America/New_York:20261024T113000
DTSTAMP:20260419T180512
CREATED:20260219T205559Z
LAST-MODIFIED:20260219T205559Z
UID:12892-1792837800-1792841400@sedgefieldchurch.org
SUMMARY:Operation Christmas Child Boxes Available
DESCRIPTION:We will begin passing out pre-made Operation Christmas Child Boxes. Instructions and suggestions for what to put into your box will be distributed as well. Please return your gift-filled boxes to the church by November 22.
URL:https://sedgefieldchurch.org/event/operation-christmas-child-boxes-available-2-2-2-2-2-2/
CATEGORIES:All Ages,Missions
ATTACH;FMTTYPE=image/jpeg:https://sedgefieldchurch.org/wp-content/uploads/2014/10/Op-Christmas-Child-e1417014578605.jpg
END:VEVENT
END:VCALENDAR