BEGIN:VCALENDAR
VERSION:2.0
PRODID:-//Sedgefield Church - ECPv5.16.4//NONSGML v1.0//EN
CALSCALE:GREGORIAN
METHOD:PUBLISH
X-WR-CALNAME:Sedgefield Church
X-ORIGINAL-URL:https://sedgefieldchurch.org
X-WR-CALDESC:Events for Sedgefield Church
BEGIN:VTIMEZONE
TZID:America/New_York
BEGIN:DAYLIGHT
TZOFFSETFROM:-0500
TZOFFSETTO:-0400
TZNAME:EDT
DTSTART:20220313T070000
END:DAYLIGHT
BEGIN:STANDARD
TZOFFSETFROM:-0400
TZOFFSETTO:-0500
TZNAME:EST
DTSTART:20221106T060000
END:STANDARD
END:VTIMEZONE
BEGIN:VEVENT
DTSTART;TZID=America/New_York:20221002T234500
DTEND;TZID=America/New_York:20221002T234500
DTSTAMP:20260424T061731
CREATED:20221001T142110Z
LAST-MODIFIED:20221001T142110Z
UID:10245-1664754300-1664754300@sedgefieldchurch.org
SUMMARY:Nominations Committee Meeting
DESCRIPTION:If you are on the Nominating Committee\, please plan to attend this meeting in the parlor.
URL:https://sedgefieldchurch.org/event/nominations-committee-meeting-2/
CATEGORIES:Committee
END:VEVENT
END:VCALENDAR