BEGIN:VCALENDAR
VERSION:2.0
PRODID:-//Sedgefield Church - ECPv5.16.4//NONSGML v1.0//EN
CALSCALE:GREGORIAN
METHOD:PUBLISH
X-WR-CALNAME:Sedgefield Church
X-ORIGINAL-URL:https://sedgefieldchurch.org
X-WR-CALDESC:Events for Sedgefield Church
BEGIN:VTIMEZONE
TZID:America/New_York
BEGIN:DAYLIGHT
TZOFFSETFROM:-0500
TZOFFSETTO:-0400
TZNAME:EDT
DTSTART:20230312T070000
END:DAYLIGHT
BEGIN:STANDARD
TZOFFSETFROM:-0400
TZOFFSETTO:-0500
TZNAME:EST
DTSTART:20231105T060000
END:STANDARD
END:VTIMEZONE
BEGIN:VEVENT
DTSTART;TZID=America/New_York:20230624T113000
DTEND;TZID=America/New_York:20230624T130000
DTSTAMP:20260421T074557
CREATED:20230324T191506Z
LAST-MODIFIED:20230620T223744Z
UID:10640-1687606200-1687611600@sedgefieldchurch.org
SUMMARY:Neighborhood Cookout
DESCRIPTION:RAIN OR SHINE! Join us on the front lawn or the Fellowship Hall for hamburgers and hotdogs. FREE EVENT. Everyone is invited! Any donations will go to Charlotte Rescue Mission.
URL:https://sedgefieldchurch.org/event/neighborhood-cookout-2-2-2-2/
CATEGORIES:Adult,All Ages,Children,Family,Neighborhood,Social
ATTACH;FMTTYPE=image/png:https://sedgefieldchurch.org/wp-content/uploads/Updated-Community-Cookout-Website.png
END:VEVENT
END:VCALENDAR