BEGIN:VCALENDAR
VERSION:2.0
PRODID:-//Sedgefield Church - ECPv5.16.4//NONSGML v1.0//EN
CALSCALE:GREGORIAN
METHOD:PUBLISH
X-WR-CALNAME:Sedgefield Church
X-ORIGINAL-URL:https://sedgefieldchurch.org
X-WR-CALDESC:Events for Sedgefield Church
BEGIN:VTIMEZONE
TZID:America/New_York
BEGIN:DAYLIGHT
TZOFFSETFROM:-0500
TZOFFSETTO:-0400
TZNAME:EDT
DTSTART:20240310T070000
END:DAYLIGHT
BEGIN:STANDARD
TZOFFSETFROM:-0400
TZOFFSETTO:-0500
TZNAME:EST
DTSTART:20241103T060000
END:STANDARD
END:VTIMEZONE
BEGIN:VEVENT
DTSTART;TZID=America/New_York:20240309T140000
DTEND;TZID=America/New_York:20240309T160000
DTSTAMP:20260420T020542
CREATED:20240223T172339Z
LAST-MODIFIED:20240223T173234Z
UID:11492-1709992800-1710000000@sedgefieldchurch.org
SUMMARY:Sedgefield Neighborhood Chili Cook Off - Finally Here!
DESCRIPTION:The Sedgefield Neighborhood Association and Sedgefield UMC have teamed up to bring the community.together for SEDGEFIELD 2024 CHILI COOK OFF. Get your taste buds hopping while meeting new neighbors and reconnecting with longtime friends. Click here to sign up to compete. There will be two categories\, traditional Chili and non-traditional Chili.
URL:https://sedgefieldchurch.org/event/neighborhood-chili-cook-off-2-2/
CATEGORIES:Adult,All Ages,Children,Family,Featured,Neighborhood,Social
ATTACH;FMTTYPE=image/jpeg:https://sedgefieldchurch.org/wp-content/uploads/chili-cook-off-e1708709464156.jpg
END:VEVENT
END:VCALENDAR