BEGIN:VCALENDAR
VERSION:2.0
PRODID:-//Sedgefield Church - ECPv5.16.4//NONSGML v1.0//EN
CALSCALE:GREGORIAN
METHOD:PUBLISH
X-WR-CALNAME:Sedgefield Church
X-ORIGINAL-URL:https://sedgefieldchurch.org
X-WR-CALDESC:Events for Sedgefield Church
BEGIN:VTIMEZONE
TZID:America/New_York
BEGIN:DAYLIGHT
TZOFFSETFROM:-0500
TZOFFSETTO:-0400
TZNAME:EDT
DTSTART:20240310T070000
END:DAYLIGHT
BEGIN:STANDARD
TZOFFSETFROM:-0400
TZOFFSETTO:-0500
TZNAME:EST
DTSTART:20241103T060000
END:STANDARD
END:VTIMEZONE
BEGIN:VEVENT
DTSTART;TZID=America/New_York:20240811T114500
DTEND;TZID=America/New_York:20240811T130000
DTSTAMP:20260420T170344
CREATED:20240728T191515Z
LAST-MODIFIED:20240728T191515Z
UID:11710-1723376700-1723381200@sedgefieldchurch.org
SUMMARY:Membership Information Class
DESCRIPTION:Are you interested in learning more about Sedgefield UMC? Come to this information session. It will take place in the Fellowship Hall. A light lunch will be served and child care is provided.
URL:https://sedgefieldchurch.org/event/membership-information-class-2/
CATEGORIES:All Ages
ATTACH;FMTTYPE=image/jpeg:https://sedgefieldchurch.org/wp-content/uploads/membership-class.jpg
END:VEVENT
END:VCALENDAR