BEGIN:VCALENDAR
VERSION:2.0
PRODID:-//Sedgefield Church - ECPv5.16.4//NONSGML v1.0//EN
CALSCALE:GREGORIAN
METHOD:PUBLISH
X-WR-CALNAME:Sedgefield Church
X-ORIGINAL-URL:https://sedgefieldchurch.org
X-WR-CALDESC:Events for Sedgefield Church
BEGIN:VTIMEZONE
TZID:America/New_York
BEGIN:DAYLIGHT
TZOFFSETFROM:-0500
TZOFFSETTO:-0400
TZNAME:EDT
DTSTART:20250309T070000
END:DAYLIGHT
BEGIN:STANDARD
TZOFFSETFROM:-0400
TZOFFSETTO:-0500
TZNAME:EST
DTSTART:20251102T060000
END:STANDARD
END:VTIMEZONE
BEGIN:VEVENT
DTSTART;TZID=America/New_York:20250727T114500
DTEND;TZID=America/New_York:20250727T130000
DTSTAMP:20260419T210648
CREATED:20250620T175726Z
LAST-MODIFIED:20250620T175726Z
UID:12363-1753616700-1753621200@sedgefieldchurch.org
SUMMARY:Membership Information Meeting
DESCRIPTION:Are you interested in learning more about Sedgefield UMC? Come to this information session. It will take place in the Fellowship Hall. A light lunch will be served and child care is provided if needed.
URL:https://sedgefieldchurch.org/event/membership-information-class-2-2-2/
CATEGORIES:All Ages
ATTACH;FMTTYPE=image/jpeg:https://sedgefieldchurch.org/wp-content/uploads/membership-class.jpg
END:VEVENT
END:VCALENDAR