BEGIN:VCALENDAR
VERSION:2.0
PRODID:-//Sedgefield Church - ECPv5.16.4//NONSGML v1.0//EN
CALSCALE:GREGORIAN
METHOD:PUBLISH
X-WR-CALNAME:Sedgefield Church
X-ORIGINAL-URL:https://sedgefieldchurch.org
X-WR-CALDESC:Events for Sedgefield Church
BEGIN:VTIMEZONE
TZID:America/New_York
BEGIN:DAYLIGHT
TZOFFSETFROM:-0500
TZOFFSETTO:-0400
TZNAME:EDT
DTSTART:20230312T070000
END:DAYLIGHT
BEGIN:STANDARD
TZOFFSETFROM:-0400
TZOFFSETTO:-0500
TZNAME:EST
DTSTART:20231105T060000
END:STANDARD
END:VTIMEZONE
BEGIN:VEVENT
DTSTART;TZID=America/New_York:20230406T190000
DTEND;TZID=America/New_York:20230406T200000
DTSTAMP:20260421T132531
CREATED:20230201T191559Z
LAST-MODIFIED:20230324T190805Z
UID:10540-1680807600-1680811200@sedgefieldchurch.org
SUMMARY:Maundy Thursday Service at Woodlawn Community Fellowship
DESCRIPTION:Maundy Thursday is the Christian holy day falling on the Thursday before Easter. It commemorates the Washing of the Feet and Last Supper of Jesus Christ with the Apostles. This will be a combined service with Woodlawn Community Fellowship UMC at their locations – 737 E. Woodlawn Road.
URL:https://sedgefieldchurch.org/event/maundy-thursday-sermon-and-prayer-via-zoom-2/
LOCATION:Woodlawn Community Fellowship UMC\, 737 E. Woodlawn\, Charlotte\, NC\, 28209\, United States
CATEGORIES:All Ages,Worship
ATTACH;FMTTYPE=image/png:https://sedgefieldchurch.org/wp-content/uploads/maundy-thursday.png
END:VEVENT
END:VCALENDAR