BEGIN:VCALENDAR
VERSION:2.0
PRODID:-//Sedgefield Church - ECPv5.16.4//NONSGML v1.0//EN
CALSCALE:GREGORIAN
METHOD:PUBLISH
X-WR-CALNAME:Sedgefield Church
X-ORIGINAL-URL:https://sedgefieldchurch.org
X-WR-CALDESC:Events for Sedgefield Church
BEGIN:VTIMEZONE
TZID:America/New_York
BEGIN:DAYLIGHT
TZOFFSETFROM:-0500
TZOFFSETTO:-0400
TZNAME:EDT
DTSTART:20240310T070000
END:DAYLIGHT
BEGIN:STANDARD
TZOFFSETFROM:-0400
TZOFFSETTO:-0500
TZNAME:EST
DTSTART:20241103T060000
END:STANDARD
END:VTIMEZONE
BEGIN:VEVENT
DTSTART;TZID=America/New_York:20240320T120000
DTEND;TZID=America/New_York:20240320T130000
DTSTAMP:20260419T075744
CREATED:20240202T214253Z
LAST-MODIFIED:20240202T214253Z
UID:11445-1710936000-1710939600@sedgefieldchurch.org
SUMMARY:Lent Lunch with The Pastors at Woodlawn Community Fellowship
DESCRIPTION:During this season of Lent\, Sedgefield Church and Woodlawn Community Church are partnering to provide Wednesday Lenten Devotionals. \nWe encourage you to bring your own lunch to this event.  Drinks and dessert will be provided by the host church. The Pastor will do a brief devotion. The schedule is as follows: \nMarch 6 and March 20: Sedgefield United Methodist Church \nMarch 13 and March 27: Woodlawn Community Fellowship
URL:https://sedgefieldchurch.org/event/lent-lunch-with-the-pastors-at-st-lukes-lutheran-church-2-3-2-2-2-2-2-2/
CATEGORIES:All Ages,Neighborhood,Social,Worship
ATTACH;FMTTYPE=image/png:https://sedgefieldchurch.org/wp-content/uploads/Lent-Lunch-with-the-Pastors-Website9789.png
END:VEVENT
END:VCALENDAR