BEGIN:VCALENDAR
VERSION:2.0
PRODID:-//Sedgefield Church - ECPv5.16.4//NONSGML v1.0//EN
CALSCALE:GREGORIAN
METHOD:PUBLISH
X-WR-CALNAME:Sedgefield Church
X-ORIGINAL-URL:https://sedgefieldchurch.org
X-WR-CALDESC:Events for Sedgefield Church
BEGIN:VTIMEZONE
TZID:America/New_York
BEGIN:DAYLIGHT
TZOFFSETFROM:-0500
TZOFFSETTO:-0400
TZNAME:EDT
DTSTART:20220313T070000
END:DAYLIGHT
BEGIN:STANDARD
TZOFFSETFROM:-0400
TZOFFSETTO:-0500
TZNAME:EST
DTSTART:20221106T060000
END:STANDARD
END:VTIMEZONE
BEGIN:VEVENT
DTSTART;TZID=America/New_York:20220406T120000
DTEND;TZID=America/New_York:20220406T130000
DTSTAMP:20260424T081009
CREATED:20220209T193206Z
LAST-MODIFIED:20220209T193206Z
UID:9745-1649246400-1649250000@sedgefieldchurch.org
SUMMARY:Lent Lunch with The Pastors at Avondale Presbyterian Church
DESCRIPTION:During this season of Lent\, Sedgefield Church is partnering with 4 other churches in our area to provide a Lenten Devotional each Wednesday. The location and the Pastor giving the devotion will change each month. \nWe encourage you to bring your own lunch to this event.  A Pastor will do a brief devotion. The Pastor giving the devotion will not be from the host church. The schedule is as follows: \nMarch 9: St. Luke’s Lutheran Church \nMarch 16: Sedgefield United Methodist Church \nMarch 23:  Park Road Baptiest Church \nMarch 30: Holy Comforter Episcopal Church \nApril 6: Avondale Presbyterian Church
URL:https://sedgefieldchurch.org/event/lent-lunch-with-the-pastors-at-st-lukes-lutheran-church-2-2-2-2/
CATEGORIES:All Ages,Neighborhood,Social,Worship
ATTACH;FMTTYPE=image/png:https://sedgefieldchurch.org/wp-content/uploads/Lent-Lunch-with-the-Pastors-Website9789.png
END:VEVENT
END:VCALENDAR