BEGIN:VCALENDAR
VERSION:2.0
PRODID:-//Sedgefield Church - ECPv5.16.4//NONSGML v1.0//EN
CALSCALE:GREGORIAN
METHOD:PUBLISH
X-WR-CALNAME:Sedgefield Church
X-ORIGINAL-URL:https://sedgefieldchurch.org
X-WR-CALDESC:Events for Sedgefield Church
BEGIN:VTIMEZONE
TZID:America/New_York
BEGIN:DAYLIGHT
TZOFFSETFROM:-0500
TZOFFSETTO:-0400
TZNAME:EDT
DTSTART:20210314T070000
END:DAYLIGHT
BEGIN:STANDARD
TZOFFSETFROM:-0400
TZOFFSETTO:-0500
TZNAME:EST
DTSTART:20211107T060000
END:STANDARD
END:VTIMEZONE
BEGIN:VEVENT
DTSTART;TZID=America/New_York:20210124T140000
DTEND;TZID=America/New_York:20210124T153000
DTSTAMP:20260424T125137
CREATED:20210108T201054Z
LAST-MODIFIED:20210108T201801Z
UID:8387-1611496800-1611502200@sedgefieldchurch.org
SUMMARY:Leadership Day
DESCRIPTION:Church Committees and Teams will meet virtually for the purpose of  organizing and preparing for the upcoming  year. Everyone serving on a committee or team is asked to attend this important time of planning for our new church year.
URL:https://sedgefieldchurch.org/event/leadership-day-2/
CATEGORIES:Committee
END:VEVENT
END:VCALENDAR