BEGIN:VCALENDAR
VERSION:2.0
PRODID:-//Sedgefield Church - ECPv5.16.4//NONSGML v1.0//EN
CALSCALE:GREGORIAN
METHOD:PUBLISH
X-WR-CALNAME:Sedgefield Church
X-ORIGINAL-URL:https://sedgefieldchurch.org
X-WR-CALDESC:Events for Sedgefield Church
BEGIN:VTIMEZONE
TZID:America/New_York
BEGIN:DAYLIGHT
TZOFFSETFROM:-0500
TZOFFSETTO:-0400
TZNAME:EDT
DTSTART:20230312T070000
END:DAYLIGHT
BEGIN:STANDARD
TZOFFSETFROM:-0400
TZOFFSETTO:-0500
TZNAME:EST
DTSTART:20231105T060000
END:STANDARD
END:VTIMEZONE
BEGIN:VEVENT
DTSTART;TZID=America/New_York:20230507T103000
DTEND;TZID=America/New_York:20230507T113000
DTSTAMP:20260421T143538
CREATED:20230128T145346Z
LAST-MODIFIED:20230128T145346Z
UID:10502-1683455400-1683459000@sedgefieldchurch.org
SUMMARY:Keystone Montessori Sunday
DESCRIPTION:Join us as we celebrate 10 years of relationship with Keystone Montessori School. A reception will follow this delightful event
URL:https://sedgefieldchurch.org/event/keystone-montessori-sunday/
CATEGORIES:All Ages,Family,Neighborhood,Worship
ATTACH;FMTTYPE=image/png:https://sedgefieldchurch.org/wp-content/uploads/Keystone-Montessori.png
END:VEVENT
END:VCALENDAR